BEGIN:VCALENDAR
VERSION:2.0
PRODID:icalendar-ruby
CALSCALE:GREGORIAN
METHOD:PUBLISH
BEGIN:VEVENT
DTSTAMP:20260425T201516Z
UID:6-411365@ridinwith.tithelysetup2.com
DTSTART:20260503T160000Z
DTEND:20260504T050000Z
CLASS:PUBLIC
CREATED:20260425T100102
DESCRIPTION:This is a test
LAST-MODIFIED:20260425T100102
LOCATION:Test location
SUMMARY:Test Event
URL;VALUE=URI:https://ridinwith.tithelysetup2.com/events/test-event/2026-05
 -03
END:VEVENT
END:VCALENDAR
