BEGIN:VCALENDAR
VERSION:2.0
PRODID:icalendar-ruby
CALSCALE:GREGORIAN
METHOD:PUBLISH
BEGIN:VEVENT
DTSTAMP:20260425T201515Z
UID:6-411364@ridinwith.tithelysetup2.com
DTSTART:20260426T160000Z
DTEND:20260427T050000Z
CLASS:PUBLIC
CREATED:20260425T100102
DESCRIPTION:This is a test
LAST-MODIFIED:20260425T100102
LOCATION:Test location
SUMMARY:Test Event
URL;VALUE=URI:https://ridinwith.tithelysetup2.com/events/test-event/2026-04
 -26
END:VEVENT
END:VCALENDAR
